BEGIN:VCALENDAR
VERSION:2.0
PRODID:-//Advanced Intellect//aspNetEmail Calendar Writer(v4.0.0.57)//EN
METHOD:POST
BEGIN:VTIMEZONE
LAST-MODIFIED:20260423T095005Z
TZID:Eastern Standard Time
BEGIN:STANDARD
DTSTART:16010101T030000
TZOFFSETFROM:-0400
TZOFFSETTO:-0500
TZNAME:EST
RRULE:FREQ=YEARLY;BYMONTH=11;BYDAY=1SU
END:STANDARD
BEGIN:DAYLIGHT
DTSTART:16010101T020000
TZOFFSETFROM:-0500
TZOFFSETTO:-0400
TZNAME:EDT
RRULE:FREQ=YEARLY;BYMONTH=3;BYDAY=2SU
END:DAYLIGHT
END:VTIMEZONE
BEGIN:VEVENT
DTSTART;TZID="Eastern Standard Time":20180518T190000
DTEND;TZID="Eastern Standard Time":20180519T120000
UID:ace70ec5-c672-4232-83b9-25da819fcbd3
CREATED:20260423T135005Z
DTSTAMP:20260423T135005Z
LAST-MODIFIED:20260423T135005Z
DESCRIPTION:
CLASS:PUBLIC
LOCATION:
PRIORITY:5
SUMMARY:Elyse Fitzpatrick Simulcast - Women Delighting in God's Word
TRANSP:OPAQUE
SEQUENCE:0
ORGANIZER;CN="Mrs Lauri Swisher":MAILTO:lswisher@emmanuelbaptist.com
STATUS:NEEDS ACTION
BEGIN:VALARM
DESCRIPTION:Elyse Fitzpatrick Simulcast - Women Delighting in God's
  Word
ACTION:DISPLAY
TRIGGER:-PT30M
END:VALARM
END:VEVENT
END:VCALENDAR