BEGIN:VCALENDAR
VERSION:2.0
PRODID:-//Advanced Intellect//aspNetEmail Calendar Writer(v4.0.0.57)//EN
METHOD:POST
BEGIN:VTIMEZONE
LAST-MODIFIED:20260422T151229Z
TZID:Eastern Standard Time
BEGIN:STANDARD
DTSTART:16010101T030000
TZOFFSETFROM:-0400
TZOFFSETTO:-0500
TZNAME:EST
RRULE:FREQ=YEARLY;BYMONTH=11;BYDAY=1SU
END:STANDARD
BEGIN:DAYLIGHT
DTSTART:16010101T020000
TZOFFSETFROM:-0500
TZOFFSETTO:-0400
TZNAME:EDT
RRULE:FREQ=YEARLY;BYMONTH=3;BYDAY=2SU
END:DAYLIGHT
END:VTIMEZONE
BEGIN:VEVENT
DTSTART;TZID="Eastern Standard Time":20200809T000000
DTEND;TZID="Eastern Standard Time":20200813T000000
UID:9407f74f-7b5a-4f15-bc9c-eb3891998bf5
CREATED:20260422T191229Z
DTSTAMP:20260422T191229Z
LAST-MODIFIED:20260422T191229Z
DESCRIPTION:Free Digital Take-Home VBS\nAugust-September
CLASS:PUBLIC
LOCATION:Child
PRIORITY:5
SUMMARY:2020 Online VBS 
TRANSP:OPAQUE
SEQUENCE:0
ORGANIZER;CN="Pastor Dan Neighbors":MAILTO:dan.neighbors@gmail.com
STATUS:NEEDS ACTION
BEGIN:VALARM
DESCRIPTION:2020 Online VBS 
ACTION:DISPLAY
TRIGGER:-PT30M
END:VALARM
END:VEVENT
END:VCALENDAR